BEGIN:VCALENDAR
VERSION:2.0
PRODID:-//Eventin//Event Calendar//EN
CALSCALE:GREGORIAN
METHOD:PUBLISH
BEGIN:VEVENT
UID:a06dbb3aa339d2cdc54fece64fc6947e@sfduka.com
SUMMARY:Mother's Day\, A Leso Tray Woodworking Workshop
DESCRIPTION:SF Duka Mother's Day - Build Her Something She'll Actually Use.
 \nFlowers are fine. A hand-built leso tray is better.\nThis Mother's Day\, 
 bring your mum\, your sister\, your aunt\, or whoever deserves a proper day
  out and build something together at SF Duka. The Leso Tray is one of our f
 avourite builds - a solid wood tray lined with a beautiful African leso fab
 ric picked by you from our selection. It's a half-day woodworking session t
 hat ends with a finished piece worth keeping.\nTickets are KES 4\,000 per p
 erson - that's KES 750 off the regular workshop price\, just for showing up
  on the right day.\nWhat to Expect\nYou'll spend your session building a so
 lid wood tray from scratch\, then finishing it by lining the base with a le
 so of your choice. Our team walks you through every step. No woodworking ex
 perience needed - if you can show up\, you can build this.\nWhen you're not
  at your workstation\, SF Duka's lawn games are out and available - giant J
 enga\, ring toss\, cornhole\, and more. Come early\, stay late\, make a day
  of it.\nWhat's Included\n\nFull leso tray build session with all materials
  and tools provided\nLeso fabric selection - pick the print that speaks to 
 you\nAccess to SF Duka lawn games throughout the day\nA finished tray you b
 uilt yourself to take home\n\nSessions\nPick your preferred session right h
 ere on this page.\n\nMorning: 10am - 1pm\nAfternoon: 2pm - 5pm
LOCATION:SF Duka Workshop
DTSTAMP:20260421T180635Z
DTSTART:20260509T070000Z
DTEND:20260509T140000Z
END:VEVENT
END:VCALENDAR
