BEGIN:VCALENDAR
VERSION:2.0
PRODID:-//Eventin//Event Calendar//EN
CALSCALE:GREGORIAN
METHOD:PUBLISH
BEGIN:VEVENT
UID:3f3e57edf3ac7ddda71157985112edbc@sfduka.com
SUMMARY:Father's Day\, A Cutting Board Woodworking Workshop
DESCRIPTION:A cutting board is one of those things every kitchen needs and 
 nobody ever thinks to make. This Father's Day\, change that. Bring your dad
 \, your brother\, your person\, and spend a half-day at SF Duka building a 
 solid wood cutting board from scratch. It's a straightforward build with a 
 genuinely useful result - the kind of thing that lives on a kitchen counter
  for years.\nTickets are KES 3\,900 per person - KES 500 off the regular wo
 rkshop price.\nWhat to Expect\nYou'll cut\, shape\, sand\, and finish your 
 cutting board in a single session with guidance from our team the whole way
  through. No woodworking experience needed. By the time you leave\, you'll 
 have a finished\, food-safe cutting board you built with your own hands.\nB
 etween builds\, SF Duka's lawn games are out - giant Jenga\, ring toss\, co
 rnhole\, and more. Good way to spend the time between steps while things dr
 y.\nWhat's Included\n\nFull cutting board build session with all materials 
 and tools provided\nFood safe finish applied and ready to use\nAccess to SF
  Duka lawn games throughout the day\nA finished cutting board to take home\
 n\nSessions\nPick your preferred session right here on this page.\n\nMornin
 g: 10am - 1pm\nAfternoon: 2pm - 5pm
LOCATION:SF Duka Workshop
DTSTAMP:20260421T183543Z
DTSTART:20260620T070000Z
DTEND:20260620T140000Z
END:VEVENT
END:VCALENDAR
